BEGIN:VCALENDAR
VERSION:2.0
PRODID:-//Muscle Shoals National Heritage Area - ECPv6.15.20//NONSGML v1.0//EN
CALSCALE:GREGORIAN
METHOD:PUBLISH
X-ORIGINAL-URL:https://msnha.una.edu
X-WR-CALDESC:Events for Muscle Shoals National Heritage Area
REFRESH-INTERVAL;VALUE=DURATION:PT1H
X-Robots-Tag:noindex
X-PUBLISHED-TTL:PT1H
BEGIN:VTIMEZONE
TZID:America/Chicago
BEGIN:DAYLIGHT
TZOFFSETFROM:-0600
TZOFFSETTO:-0500
TZNAME:CDT
DTSTART:20230312T080000
END:DAYLIGHT
BEGIN:STANDARD
TZOFFSETFROM:-0500
TZOFFSETTO:-0600
TZNAME:CST
DTSTART:20231105T070000
END:STANDARD
BEGIN:DAYLIGHT
TZOFFSETFROM:-0600
TZOFFSETTO:-0500
TZNAME:CDT
DTSTART:20240310T080000
END:DAYLIGHT
BEGIN:STANDARD
TZOFFSETFROM:-0500
TZOFFSETTO:-0600
TZNAME:CST
DTSTART:20241103T070000
END:STANDARD
BEGIN:DAYLIGHT
TZOFFSETFROM:-0600
TZOFFSETTO:-0500
TZNAME:CDT
DTSTART:20250309T080000
END:DAYLIGHT
BEGIN:STANDARD
TZOFFSETFROM:-0500
TZOFFSETTO:-0600
TZNAME:CST
DTSTART:20251102T070000
END:STANDARD
END:VTIMEZONE
BEGIN:VEVENT
DTSTART;TZID=America/Chicago:20240316T100000
DTEND;TZID=America/Chicago:20240316T130000
DTSTAMP:20260424T151458
CREATED:20240209T181528Z
LAST-MODIFIED:20240209T181528Z
UID:9705-1710583200-1710594000@msnha.una.edu
SUMMARY:Village School Work Day
DESCRIPTION:Please wear clothes you don’t mind getting dirty in — such as jeans — and wear closed-toe shoes. Feel free to bring work gloves\, as well. We’ll provide supplies & direction\, so no experience necessary. If you’re not able to stay the whole morning\, please stop by anyway to say “hi” and see what we’re up to!
URL:https://msnha.una.edu/event/village-school-work-day/
LOCATION:Village One School\, Sheffield\, AL
CATEGORIES:Community Events,MSNHA Sponsored Events
ATTACH;FMTTYPE=image/jpeg:https://msnha.una.edu/wp-content/uploads/2024/02/workday.jpg
END:VEVENT
BEGIN:VEVENT
DTSTART;TZID=America/Chicago:20240316T100000
DTEND;TZID=America/Chicago:20240316T140000
DTSTAMP:20260424T151458
CREATED:20240128T192536Z
LAST-MODIFIED:20240128T192536Z
UID:9681-1710583200-1710597600@msnha.una.edu
SUMMARY:Bad Kitty 5K & 10K
DESCRIPTION:The Bad Kitty 5K & 10K is the first event part of the inaugural Heritage Area Hustle Race Series. The Heritage Area Hustle Race Series is MSNHA’s annual challenge & fundraiser designed to support MSNHA’s programs & projects related to outdoor recreation\, arts & culture and equity of access to natural & cultural resources. Participate in the Bad Kitty\, the Artsy Fartsy (5K and 1-mile fun run\, June 22)\, and the Shady Lady (5K\, 10K and Half Marathon\, Oct. 26) and receive a special medal for completing the series! Entrants can register for all three races at once using the multi-race bundle option to save $5 on each race fee.\nAll proceeds from the Bad Kitty Trail 5K & 10K will help support trail development projects and recreational programming in Wildwood Park.\nFor full Heritage Area Hustle Race Series details\, including volunteer and sponsorship opportunities\, visit our website at https://msnha.una.edu/heritage-area-hustle-race-series/
URL:https://msnha.una.edu/event/bad-kitty-5k-10k/
LOCATION:Wildwood Park\, State Route 13\, Florence\, 35630\, United States
CATEGORIES:League of Outdoor Women,MSNHA Recreation
ATTACH;FMTTYPE=image/png:https://msnha.una.edu/wp-content/uploads/2024/01/Bad-Kitty-logo.png
END:VEVENT
BEGIN:VEVENT
DTSTART;TZID=America/Chicago:20240316T100000
DTEND;TZID=America/Chicago:20240316T170000
DTSTAMP:20260424T151458
CREATED:20240306T171612Z
LAST-MODIFIED:20240306T171612Z
UID:9745-1710583200-1710608400@msnha.una.edu
SUMMARY:Young Learners Series: Music
DESCRIPTION:The Florence Indian Mound Museum hosts a series of children’s programs that explores Shoals early history through short lessons & hands-on learning. Each month features a practice relating to Native American culture. Participants explore the history & cultural meaning behind each practice and engage in an activity related to that topic.\nMarch’s program is on Southeastern Native American music.\nMusic is an artistic expression that has been shared by Southeastern Native American people for centuries. Music was & is still used for self-expression\, as the carrier of language and as a catalyst for bringing people together & keeping culture alive.\nToday the music of the Native American people of the Southeast continues to be celebrated and shared in many different ways. Participants will make instruments & learn a dance.
URL:https://msnha.una.edu/event/young-learners-series-music/
LOCATION:Florence Indian Mound and Museum\, Florence\, AL
CATEGORIES:MSNHA Sponsored Events
ATTACH;FMTTYPE=image/png:https://msnha.una.edu/wp-content/uploads/2024/03/MUSIC-GRAPHIC-YLS-2024.png
END:VEVENT
END:VCALENDAR