BEGIN:VCALENDAR
VERSION:2.0
PRODID:-//Muscle Shoals National Heritage Area - ECPv6.15.20//NONSGML v1.0//EN
CALSCALE:GREGORIAN
METHOD:PUBLISH
X-WR-CALNAME:Muscle Shoals National Heritage Area
X-ORIGINAL-URL:https://msnha.una.edu
X-WR-CALDESC:Events for Muscle Shoals National Heritage Area
REFRESH-INTERVAL;VALUE=DURATION:PT1H
X-Robots-Tag:noindex
X-PUBLISHED-TTL:PT1H
BEGIN:VTIMEZONE
TZID:America/Chicago
BEGIN:DAYLIGHT
TZOFFSETFROM:-0600
TZOFFSETTO:-0500
TZNAME:CDT
DTSTART:20250309T080000
END:DAYLIGHT
BEGIN:STANDARD
TZOFFSETFROM:-0500
TZOFFSETTO:-0600
TZNAME:CST
DTSTART:20251102T070000
END:STANDARD
BEGIN:DAYLIGHT
TZOFFSETFROM:-0600
TZOFFSETTO:-0500
TZNAME:CDT
DTSTART:20260308T080000
END:DAYLIGHT
BEGIN:STANDARD
TZOFFSETFROM:-0500
TZOFFSETTO:-0600
TZNAME:CST
DTSTART:20261101T070000
END:STANDARD
BEGIN:DAYLIGHT
TZOFFSETFROM:-0600
TZOFFSETTO:-0500
TZNAME:CDT
DTSTART:20270314T080000
END:DAYLIGHT
BEGIN:STANDARD
TZOFFSETFROM:-0500
TZOFFSETTO:-0600
TZNAME:CST
DTSTART:20271107T070000
END:STANDARD
END:VTIMEZONE
BEGIN:VEVENT
DTSTART;TZID=America/Chicago:20260217T080000
DTEND;TZID=America/Chicago:20260828T170000
DTSTAMP:20260421T175242
CREATED:20260217T211710Z
LAST-MODIFIED:20260219T154450Z
UID:11786-1771315200-1787936400@msnha.una.edu
SUMMARY:Enter our Photo Contest!
DESCRIPTION:We’ve opened our photo contest and are looking for photos that illustrate this year’s “Landmarks & Legacies” theme — and connect northwest Alabama to America’s 250th birthday. Go here to learn more about our guidelines and access our new online submission form. Deadline is Aug. 28. And winners plus other selected entries will be displayed in a Florence gallery!
URL:https://msnha.una.edu/event/enter-our-photo-contest/
LOCATION:AL
CATEGORIES:MSNHA Sponsored Events
ATTACH;FMTTYPE=image/png:https://msnha.una.edu/wp-content/uploads/2026/02/Photo-2.png
END:VEVENT
BEGIN:VEVENT
DTSTART;VALUE=DATE:20260423
DTEND;VALUE=DATE:20260425
DTSTAMP:20260421T175242
CREATED:20260417T215614Z
LAST-MODIFIED:20260417T221831Z
UID:12063-1776902400-1777075199@msnha.una.edu
SUMMARY:Project Threadways Symposium
DESCRIPTION:Since 2019\, Project Threadways has hosted annual symposia exploring the intersections of design\, art\, making\, power\, labor\, and community. Each gathering has expanded on a central inquiry: how can making—especially through design and textiles—help us better understand the social\, economic\, and environmental systems we live within? \nThe 2026 Project Threadways Symposium continues this exploration through the theme of Regeneration. Presentations\, workshops & exhibitions center cotton\, from soil to shelf to symbol—who grows it\, how it is nurtured\, who benefits in the global marketplace & its generational legacy. Speakers explore power & representation in the supply chain\, connect craft & culture and showcase pioneers who are restoring health & humanity to the world’s most ubiquitous fiber. \nRegeneration reflects the core values of Project Threadways: slowness as care\, sustainability as origin and education as liberation. It reckons with the harms of industrialized and extractive systems\, offering repair through circularity\, agency & authorship. \nRegistration is still open\, and seating is limited. A waiting list will be available once capacity is reached.
URL:https://msnha.una.edu/event/project-threadways-symposium-3/
LOCATION:The Factory\, 462 Lane Drive\, Florence\, AL\, 35630\, United States
CATEGORIES:MSNHA Sponsored Events
ATTACH;FMTTYPE=image/png:https://msnha.una.edu/wp-content/uploads/2026/04/Screenshot-2026-04-17-165535.png
END:VEVENT
BEGIN:VEVENT
DTSTART;TZID=America/Chicago:20260424T170000
DTEND;TZID=America/Chicago:20260424T170000
DTSTAMP:20260421T175242
CREATED:20260417T222236Z
LAST-MODIFIED:20260417T222257Z
UID:12068-1777050000-1777050000@msnha.una.edu
SUMMARY:“Echoes of the Forks of Cypress”
DESCRIPTION:Frederick Murphy is the founder of History Before Us\, a project that aims to capture\, preserve & advocate for influential history. His film “Echoes of the Forks of Cypress” follows his own research to trace his ancestry back to the Forks of Cypress\, in Florence\, and the journey of both Black and white descendants as they reckon with their shared past to consider a healing path forward.⁠⁠As part of the 2026 Symposium that MSNHA helps sponsor\, Project Threadways will partner with Florence Arts and Museums to stage a screening of “Echoes of the Forks of Cypress.” After the film\, Florence Arts & Museums Director Brian Murphy will lead a panel conversation with Frederick Murphy and three other descendants of the Forks of Cypress: Curtis Flowers\, Tamisha Sales and Karen Curry. ⁠⁠⁠This event is free and open to the public.
URL:https://msnha.una.edu/event/echoes-of-the-forks-of-cypress/
LOCATION:Shoals Theatre\, 123 N. Seminary St.\, Florence\, AL
CATEGORIES:Community Events
ATTACH;FMTTYPE=image/jpeg:https://msnha.una.edu/wp-content/uploads/2026/04/671579969_1285322546913617_7708216375555860113_n.jpg
END:VEVENT
END:VCALENDAR