BEGIN:VCALENDAR
VERSION:2.0
PRODID:-//Muscle Shoals National Heritage Area - ECPv6.15.20//NONSGML v1.0//EN
CALSCALE:GREGORIAN
METHOD:PUBLISH
X-ORIGINAL-URL:https://msnha.una.edu
X-WR-CALDESC:Events for Muscle Shoals National Heritage Area
REFRESH-INTERVAL;VALUE=DURATION:PT1H
X-Robots-Tag:noindex
X-PUBLISHED-TTL:PT1H
BEGIN:VTIMEZONE
TZID:America/Chicago
BEGIN:DAYLIGHT
TZOFFSETFROM:-0600
TZOFFSETTO:-0500
TZNAME:CDT
DTSTART:20250309T080000
END:DAYLIGHT
BEGIN:STANDARD
TZOFFSETFROM:-0500
TZOFFSETTO:-0600
TZNAME:CST
DTSTART:20251102T070000
END:STANDARD
BEGIN:DAYLIGHT
TZOFFSETFROM:-0600
TZOFFSETTO:-0500
TZNAME:CDT
DTSTART:20260308T080000
END:DAYLIGHT
BEGIN:STANDARD
TZOFFSETFROM:-0500
TZOFFSETTO:-0600
TZNAME:CST
DTSTART:20261101T070000
END:STANDARD
BEGIN:DAYLIGHT
TZOFFSETFROM:-0600
TZOFFSETTO:-0500
TZNAME:CDT
DTSTART:20270314T080000
END:DAYLIGHT
BEGIN:STANDARD
TZOFFSETFROM:-0500
TZOFFSETTO:-0600
TZNAME:CST
DTSTART:20271107T070000
END:STANDARD
END:VTIMEZONE
BEGIN:VEVENT
DTSTART;TZID=America/Chicago:20260815T100000
DTEND;TZID=America/Chicago:20260815T130000
DTSTAMP:20260420T182434
CREATED:20260420T163218Z
LAST-MODIFIED:20260420T164037Z
UID:12102-1786788000-1786798800@msnha.una.edu
SUMMARY:Village School Volunteer Workday
DESCRIPTION:Join us for our next volunteer event at Village One School. We’ll provide supplies and direction — no experience necessary. Work will include anything from cleaning\, painting\, scraping\, to yard work\, to organizing materials and more. Email or get in touch via social media to sign up and/or alert us to specialized skills you might share. Wear clothes you don’t mind getting dirty in\, such as jeans and closed-toe shoes. Feel free to bring work gloves\, as well. If you’re not able to stay the whole morning\, please stop by anyway to say “hi” and see what we’re up to! Volunteer workdays are generally the third Saturday\, from March to October.
URL:https://msnha.una.edu/event/village-school-volunteer-workday-3/
LOCATION:Village One School\, Sheffield\, AL
CATEGORIES:Community Events
ATTACH;FMTTYPE=image/jpeg:https://msnha.una.edu/wp-content/uploads/2026/04/622892073_1238923585032135_5075414530503732874_n.jpg
END:VEVENT
BEGIN:VEVENT
DTSTART;TZID=America/Chicago:20260919T100000
DTEND;TZID=America/Chicago:20260919T130000
DTSTAMP:20260420T182434
CREATED:20260420T163511Z
LAST-MODIFIED:20260420T163511Z
UID:12106-1789812000-1789822800@msnha.una.edu
SUMMARY:Village School Volunteer Workday
DESCRIPTION:Join us for our next volunteer event at Village One School. We’ll provide supplies and direction — no experience necessary. Work will include anything from cleaning\, painting\, scraping\, to yard work\, to organizing materials and more. Email or get in touch via social media to sign up and/or alert us to specialized skills you might share. Wear clothes you don’t mind getting dirty in\, such as jeans and closed-toe shoes. Feel free to bring work gloves\, as well. If you’re not able to stay the whole morning\, please stop by anyway to say “hi” and see what we’re up to! Volunteer workdays are generally the third Saturday\, from March to October.
URL:https://msnha.una.edu/event/village-school-volunteer-workday-4/
LOCATION:Village One School\, Sheffield\, AL
CATEGORIES:Community Events
ATTACH;FMTTYPE=image/jpeg:https://msnha.una.edu/wp-content/uploads/2026/04/622892073_1238923585032135_5075414530503732874_n.jpg
END:VEVENT
BEGIN:VEVENT
DTSTART;TZID=America/Chicago:20260924T190000
DTEND;TZID=America/Chicago:20260924T210000
DTSTAMP:20260420T182434
CREATED:20260420T162331Z
LAST-MODIFIED:20260420T162331Z
UID:12095-1790276400-1790283600@msnha.una.edu
SUMMARY:Tennessee Valley Old Timers Fiddlers Convention Concert Series--Wyatt Ellis
DESCRIPTION:Born in the rich music bed of east Tennessee\, Wyatt Ellis has quickly become one of the most-watched young musicians in bluegrass music. A devotee of Bill Monroe\, Ellis has been mentored by many iconic bluegrass musicians\, including Bobby Osborne. He’s studied with mandolin masters\, composed his own original instrumentals and transitioned from playing alone in his living room to performing seamlessly alongside bluegrass legends & Hall of Famers. During the pandemic\, learning about bluegrass music became his preferred pastime\, and his passion for music grew. In a few short years\, Ellis has mastered the mandolin and become a vocalist & multi-instrumentalist. He has been invited to perform on stage with some of the most iconic musicians of this era. In 2024 Wyatt was named International Bluegrass Music Association’s Momentum Instrumentalist of the Year.
URL:https://msnha.una.edu/event/tennessee-valley-old-timers-fiddlers-convention-concert-series-wyatt-ellis/
LOCATION:McCandless Hall\, Athens State University\, 302 Bryan St.\, Athens\, AL\, 35611\, United States
CATEGORIES:Community Events
ATTACH;FMTTYPE=image/png:https://msnha.una.edu/wp-content/uploads/2026/04/Screenshot-2026-04-20-112014.png
END:VEVENT
BEGIN:VEVENT
DTSTART;TZID=America/Chicago:20261017T100000
DTEND;TZID=America/Chicago:20261017T130000
DTSTAMP:20260420T182434
CREATED:20260420T163646Z
LAST-MODIFIED:20260420T163646Z
UID:12108-1792231200-1792242000@msnha.una.edu
SUMMARY:Village School Volunteer Workday
DESCRIPTION:Join us for our next volunteer event at Village One School. We’ll provide supplies and direction — no experience necessary. Work will include anything from cleaning\, painting\, scraping\, to yard work\, to organizing materials and more. Email or get in touch via social media to sign up and/or alert us to specialized skills you might share. Wear clothes you don’t mind getting dirty in\, such as jeans and closed-toe shoes. Feel free to bring work gloves\, as well. If you’re not able to stay the whole morning\, please stop by anyway to say “hi” and see what we’re up to! Volunteer workdays are generally the third Saturday\, from March to October.
URL:https://msnha.una.edu/event/village-school-volunteer-workday-5/
LOCATION:Village One School\, Sheffield\, AL
CATEGORIES:Community Events
END:VEVENT
END:VCALENDAR