BEGIN:VCALENDAR
VERSION:2.0
PRODID:-//Muscle Shoals National Heritage Area - ECPv6.15.20//NONSGML v1.0//EN
CALSCALE:GREGORIAN
METHOD:PUBLISH
X-WR-CALNAME:Muscle Shoals National Heritage Area
X-ORIGINAL-URL:https://msnha.una.edu
X-WR-CALDESC:Events for Muscle Shoals National Heritage Area
REFRESH-INTERVAL;VALUE=DURATION:PT1H
X-Robots-Tag:noindex
X-PUBLISHED-TTL:PT1H
BEGIN:VTIMEZONE
TZID:America/Chicago
BEGIN:DAYLIGHT
TZOFFSETFROM:-0600
TZOFFSETTO:-0500
TZNAME:CDT
DTSTART:20220313T080000
END:DAYLIGHT
BEGIN:STANDARD
TZOFFSETFROM:-0500
TZOFFSETTO:-0600
TZNAME:CST
DTSTART:20221106T070000
END:STANDARD
BEGIN:DAYLIGHT
TZOFFSETFROM:-0600
TZOFFSETTO:-0500
TZNAME:CDT
DTSTART:20230312T080000
END:DAYLIGHT
BEGIN:STANDARD
TZOFFSETFROM:-0500
TZOFFSETTO:-0600
TZNAME:CST
DTSTART:20231105T070000
END:STANDARD
BEGIN:DAYLIGHT
TZOFFSETFROM:-0600
TZOFFSETTO:-0500
TZNAME:CDT
DTSTART:20240310T080000
END:DAYLIGHT
BEGIN:STANDARD
TZOFFSETFROM:-0500
TZOFFSETTO:-0600
TZNAME:CST
DTSTART:20241103T070000
END:STANDARD
END:VTIMEZONE
BEGIN:VEVENT
DTSTART;TZID=America/Chicago:20231028T080000
DTEND;TZID=America/Chicago:20231028T120000
DTSTAMP:20260422T120919
CREATED:20230711T172138Z
LAST-MODIFIED:20230711T172138Z
UID:8279-1698480000-1698494400@msnha.una.edu
SUMMARY:Shady Lady 5K & 10K
DESCRIPTION:You don’t need to be a lady to run in the League of Outdoor Women’s Shady Lady Trail run this year! The race is open to men\, women\, children\, aliens\, kangaroos\, etc. All funds benefit League of Outdoor Women programming so come show the women in your life how much you support their outdoor adventures! Run or walk. Register by Sept.28 to ensure you get a T-shirt. Start at Joe Wheeler Boat Ramp (not at the marina as in previous years). The 10K course is a loop\, while the 5K is an out-and-back. Trails are relatively wide & well managed. Limited amount of elevation change on both courses – while there are hills\, they aren’t very steep! Prizes in each age group plus for overall winners. Registration & details here. \n\n\n 
URL:https://msnha.una.edu/event/shady-lady-5k-10k/
LOCATION:Joe Wheeler State Park\, 4401 McLean Drive\, Rogersville\, AL\, 35652\, United States
CATEGORIES:League of Outdoor Women,MSNHA Recreation
ATTACH;FMTTYPE=image/jpeg:https://msnha.una.edu/wp-content/uploads/2023/07/raceBanner-esgroDQ4-bKPj2D.jpg
END:VEVENT
END:VCALENDAR