BEGIN:VCALENDAR
VERSION:2.0
PRODID:-//Muscle Shoals National Heritage Area - ECPv6.15.20//NONSGML v1.0//EN
CALSCALE:GREGORIAN
METHOD:PUBLISH
X-WR-CALNAME:Muscle Shoals National Heritage Area
X-ORIGINAL-URL:https://msnha.una.edu
X-WR-CALDESC:Events for Muscle Shoals National Heritage Area
REFRESH-INTERVAL;VALUE=DURATION:PT1H
X-Robots-Tag:noindex
X-PUBLISHED-TTL:PT1H
BEGIN:VTIMEZONE
TZID:America/Chicago
BEGIN:DAYLIGHT
TZOFFSETFROM:-0600
TZOFFSETTO:-0500
TZNAME:CDT
DTSTART:20210314T080000
END:DAYLIGHT
BEGIN:STANDARD
TZOFFSETFROM:-0500
TZOFFSETTO:-0600
TZNAME:CST
DTSTART:20211107T070000
END:STANDARD
BEGIN:DAYLIGHT
TZOFFSETFROM:-0600
TZOFFSETTO:-0500
TZNAME:CDT
DTSTART:20220313T080000
END:DAYLIGHT
BEGIN:STANDARD
TZOFFSETFROM:-0500
TZOFFSETTO:-0600
TZNAME:CST
DTSTART:20221106T070000
END:STANDARD
BEGIN:DAYLIGHT
TZOFFSETFROM:-0600
TZOFFSETTO:-0500
TZNAME:CDT
DTSTART:20230312T080000
END:DAYLIGHT
BEGIN:STANDARD
TZOFFSETFROM:-0500
TZOFFSETTO:-0600
TZNAME:CST
DTSTART:20231105T070000
END:STANDARD
END:VTIMEZONE
BEGIN:VEVENT
DTSTART;TZID=America/Chicago:20220924T080000
DTEND;TZID=America/Chicago:20220924T110000
DTSTAMP:20260423T152015
CREATED:20220902T214235Z
LAST-MODIFIED:20220928T154218Z
UID:5495-1664006400-1664017200@msnha.una.edu
SUMMARY:Tennessee River Litter Tournament
DESCRIPTION:Join Keep the Shoals Beautiful for the 7th Annual Tennessee River Litter Tournament\, 8-11 a.m.\, Saturday\, Sept. 24! Fish for litter in the water\, on the shorelines at Riverfront or McFarland Park\, or anywhere that matters to you in the Shoals! Enter 13-gallon trash bags of litter to compete for cash prizes solo or with your organization! Get ready to put on your free T-shirt and keep the Shoals beautiful! Check-in begins at 7:30 a.m. at McFarland & Wildwood parks\, Florence\, and Riverfront Park\, Sheffield. Lunch provided for volunteers. You may also participate by checking out a free MSNHA kayak at Wildwood Park or by bringing your own. Kayakers should arrive at 7:30 a.m. for a 2-2.5-hour paddle down Cypress Creek after a safety & skills presentation\, taking out at McFarland Park around 11 a.m. If registering for a tandem kayak\, bring someone with you as the boats are too large to maneuver alone. If you register for a kayak & can’t attend\, cancel ASAP so someone else may sign up! Kayakers must know how to swim & must wear personal flotation devices on the water (paddle & PFD provided to renters). Minors must be accompanied by an adult. Register here.
URL:https://msnha.una.edu/event/tennessee-river-litter-tournament/
LOCATION:McFarland\, Riverfront & Wildwood Parks\, Florence & Sheffield\, AL
CATEGORIES:MSNHA Sponsored Events
ATTACH;FMTTYPE=image/png:https://msnha.una.edu/wp-content/uploads/2022/08/Screenshot-2022-08-28-180646.png
END:VEVENT
END:VCALENDAR