BEGIN:VCALENDAR
VERSION:2.0
PRODID:-//Muscle Shoals National Heritage Area - ECPv6.15.20//NONSGML v1.0//EN
CALSCALE:GREGORIAN
METHOD:PUBLISH
X-ORIGINAL-URL:https://msnha.una.edu
X-WR-CALDESC:Events for Muscle Shoals National Heritage Area
REFRESH-INTERVAL;VALUE=DURATION:PT1H
X-Robots-Tag:noindex
X-PUBLISHED-TTL:PT1H
BEGIN:VTIMEZONE
TZID:America/Chicago
BEGIN:DAYLIGHT
TZOFFSETFROM:-0600
TZOFFSETTO:-0500
TZNAME:CDT
DTSTART:20210314T080000
END:DAYLIGHT
BEGIN:STANDARD
TZOFFSETFROM:-0500
TZOFFSETTO:-0600
TZNAME:CST
DTSTART:20211107T070000
END:STANDARD
BEGIN:DAYLIGHT
TZOFFSETFROM:-0600
TZOFFSETTO:-0500
TZNAME:CDT
DTSTART:20220313T080000
END:DAYLIGHT
BEGIN:STANDARD
TZOFFSETFROM:-0500
TZOFFSETTO:-0600
TZNAME:CST
DTSTART:20221106T070000
END:STANDARD
BEGIN:DAYLIGHT
TZOFFSETFROM:-0600
TZOFFSETTO:-0500
TZNAME:CDT
DTSTART:20230312T080000
END:DAYLIGHT
BEGIN:STANDARD
TZOFFSETFROM:-0500
TZOFFSETTO:-0600
TZNAME:CST
DTSTART:20231105T070000
END:STANDARD
END:VTIMEZONE
BEGIN:VEVENT
DTSTART;TZID=America/Chicago:20221105T080000
DTEND;TZID=America/Chicago:20221105T110000
DTSTAMP:20260423T035813
CREATED:20220920T200120Z
LAST-MODIFIED:20221101T163051Z
UID:5554-1667635200-1667646000@msnha.una.edu
SUMMARY:Trail Care: TVA Native Plant Garden
DESCRIPTION:Join us at the TVA Reservation\, Muscle Shoals\, 7-10 a.m.\, as we continue restoring the Native Plant Garden. The Shoals Wildflower Society started the garden in the early 2000s & have maintained it with other local groups\, but help is needed! We will prune invasives along the garden’s trails as we learn about native plants from Alabama Master Gardener Margie Anderton. Wear closed toe shoes & clothes you don’t mind getting dirty and bring work gloves if you have them. Meet at the pavilion near the garden. Register here.
URL:https://msnha.una.edu/event/trail-care-tva-native-plant-garden/
LOCATION:TVA Native Plant Garden\, Muscle Shoals\, AL
CATEGORIES:MSNHA Sponsored Events
ATTACH;FMTTYPE=image/jpeg:https://msnha.una.edu/wp-content/uploads/2022/08/e1b999fd-c03c-4b40-b16d-16b6543194dc.jpeg
END:VEVENT
BEGIN:VEVENT
DTSTART;TZID=America/Chicago:20221112T090000
DTEND;TZID=America/Chicago:20221112T120000
DTSTAMP:20260423T035813
CREATED:20221110T021127Z
LAST-MODIFIED:20221110T021127Z
UID:6241-1668243600-1668254400@msnha.una.edu
SUMMARY:Trail Care: TVA Native Plant Garden
DESCRIPTION:Help us steward our community’s native plant garden at the TVA Muscle Shoals Reservation. Click here to register.
URL:https://msnha.una.edu/event/trail-care-tva-native-plant-garden-2/
LOCATION:TVA Native Plant Garden\, Muscle Shoals\, AL
CATEGORIES:MSNHA Sponsored Events
ATTACH;FMTTYPE=image/jpeg:https://msnha.una.edu/wp-content/uploads/2022/11/PXL_20221105_134715375.jpg
END:VEVENT
BEGIN:VEVENT
DTSTART;TZID=America/Chicago:20221117T173000
DTEND;TZID=America/Chicago:20221117T173000
DTSTAMP:20260423T035813
CREATED:20221103T161850Z
LAST-MODIFIED:20221115T190701Z
UID:6130-1668706200-1668706200@msnha.una.edu
SUMMARY:Appalachian Teaching Project
DESCRIPTION:But don’t worry — we’ll watch the movie indoors where it’s warm!\nJoin the University of North Alabama’s Appalachian Teaching Project in the downtown Courtland Park\, 5:30 p.m.\, Thursday\, Nov. 17\, as we celebrate the history of Courtland and think about its future. Learn about the Singing River Trail & Tennessee RiverLine\, play lawn games (and hopscotch!)\, enjoy giveaways and free snacks. We will be showing the movie “Back to the Future” in the nearby Courtland Trail Depot.
URL:https://msnha.una.edu/event/6130/
LOCATION:AL
CATEGORIES:MSNHA Recreation,MSNHA Sponsored Events,Tennessee RiverLine
ATTACH;FMTTYPE=image/jpeg:https://msnha.una.edu/wp-content/uploads/2022/11/Picture1.jpg
END:VEVENT
BEGIN:VEVENT
DTSTART;TZID=America/Chicago:20221119T100000
DTEND;TZID=America/Chicago:20221119T113000
DTSTAMP:20260423T035813
CREATED:20221031T165837Z
LAST-MODIFIED:20221031T165837Z
UID:6120-1668852000-1668857400@msnha.una.edu
SUMMARY:Young Learners' Series: Arthur C. Parker
DESCRIPTION:The Florence Indian Mound & Museum’s Young Learners’ Series\, 10 a.m. Saturday\, Nov. 19\, focuses on Arthur C. Parker\, Seneca\, a museum director & archaeologist and an early advocate for Native American Heritage Month.\n\n\nThe Young Learners’ programs explore the early history of the Shoals through short lessons & hands-on learning exercises. Beginning this month\, the programs will explore 12 Native American figures through their biographies\, contributions\, hopes & accomplishments. Each program is designed for ages 6-12 & has a creative component with hands-on learning. All events are free.\n\n\nPrograms are the third Saturday. Students will receive a passport of the 12 different programs. Prizes will be awarded to students who collect eight\, 10 and 12 stamps throughout the year. Some programs will require students to be outside.\n\n\nRegister here.
URL:https://msnha.una.edu/event/young-learners-series-arthur-c-parker/
LOCATION:Florence Indian Mound and Museum\, Florence\, AL
CATEGORIES:MSNHA Sponsored Events
ATTACH;FMTTYPE=image/png:https://msnha.una.edu/wp-content/uploads/2022/10/YLS23-1.png
END:VEVENT
BEGIN:VEVENT
DTSTART;TZID=America/Chicago:20221125T193000
DTEND;TZID=America/Chicago:20221125T193000
DTSTAMP:20260423T035813
CREATED:20221024T161054Z
LAST-MODIFIED:20221026T162933Z
UID:6060-1669404600-1669404600@msnha.una.edu
SUMMARY:Black Friday concert to benefit Muscle Shoals Music Camp & MSNHA music programming
DESCRIPTION:Sick of turkey & shopping? Come join the Muscle Shoals National Heritage Area at the historic Shoals Theatre\, in Florence\, 7:30 p.m.\, Friday\, Nov. 25\, & dance off some of the stuffing you consumed the day before. Thad & Company will start the show\, followed by Lilly Hiatt. Then Billy Allen and the Pollies will close out the night. Tickets are $25 each & on sale here. All proceeds benefit the Muscle Shoals Music Camp & other MSNHA music programming. Co-hosted by Shoals Theatre\, UNA School of the Arts and UNA Department of Entertainment Industry.
URL:https://msnha.una.edu/event/black-friday-concert-to-benefit-muscle-shoals-music-camp-msnha-music-programming/
LOCATION:Shoals Theatre\, 123 N. Seminary St.\, Florence\, AL
CATEGORIES:MSNHA Sponsored Events
ATTACH;FMTTYPE=image/png:https://msnha.una.edu/wp-content/uploads/2022/10/BlackFriday-poster.png
END:VEVENT
END:VCALENDAR