BEGIN:VCALENDAR
VERSION:2.0
PRODID:-//Muscle Shoals National Heritage Area - ECPv6.15.20//NONSGML v1.0//EN
CALSCALE:GREGORIAN
METHOD:PUBLISH
X-ORIGINAL-URL:https://msnha.una.edu
X-WR-CALDESC:Events for Muscle Shoals National Heritage Area
REFRESH-INTERVAL;VALUE=DURATION:PT1H
X-Robots-Tag:noindex
X-PUBLISHED-TTL:PT1H
BEGIN:VTIMEZONE
TZID:America/Chicago
BEGIN:DAYLIGHT
TZOFFSETFROM:-0600
TZOFFSETTO:-0500
TZNAME:CDT
DTSTART:20220313T080000
END:DAYLIGHT
BEGIN:STANDARD
TZOFFSETFROM:-0500
TZOFFSETTO:-0600
TZNAME:CST
DTSTART:20221106T070000
END:STANDARD
BEGIN:DAYLIGHT
TZOFFSETFROM:-0600
TZOFFSETTO:-0500
TZNAME:CDT
DTSTART:20230312T080000
END:DAYLIGHT
BEGIN:STANDARD
TZOFFSETFROM:-0500
TZOFFSETTO:-0600
TZNAME:CST
DTSTART:20231105T070000
END:STANDARD
BEGIN:DAYLIGHT
TZOFFSETFROM:-0600
TZOFFSETTO:-0500
TZNAME:CDT
DTSTART:20240310T080000
END:DAYLIGHT
BEGIN:STANDARD
TZOFFSETFROM:-0500
TZOFFSETTO:-0600
TZNAME:CST
DTSTART:20241103T070000
END:STANDARD
END:VTIMEZONE
BEGIN:VEVENT
DTSTART;TZID=America/Chicago:20230121T100000
DTEND;TZID=America/Chicago:20230121T113000
DTSTAMP:20260422T232742
CREATED:20230109T205426Z
LAST-MODIFIED:20230109T205532Z
UID:6494-1674295200-1674300600@msnha.una.edu
SUMMARY:Young Learners' Series -- Nanyehi (Nancy Ward)
DESCRIPTION:The Florence Indian Mound Museum is hosting a series of programs for students to explore Shoals’ early history. The programs explore 12 Native Americans through their biographies\, contributions\, hopes & accomplishments. Students will be given a passport with the 12 figures & receive a stamp for each program attended. Students who collect six\, nine or 12 stamps will receive an award.\n\n\n\n\n\n\n\nOur January program focuses on Nanyehi (Nancy Ward)\, a Cherokee woman who gained respect as a warrior when she helped her tribe defeat the Creek Indians in battle after her husband was killed. Because of her actions\, the Cherokee clans named her “Beloved Woman\,” and her opinion carried great significance. She married a British trader named Bryant Ward and advocated for peace between the Cherokee and Americans. She lived to be 79 years old and died before the Cherokee were removed from their land.
URL:https://msnha.una.edu/event/young-learners-series-nanyehi-nancy-ward/
LOCATION:Florence Indian Mound and Museum\, Florence\, AL
CATEGORIES:Community Events,MSNHA Sponsored Events
ATTACH;FMTTYPE=image/png:https://msnha.una.edu/wp-content/uploads/2023/01/YLS-23-1-2.png
END:VEVENT
END:VCALENDAR