BEGIN:VCALENDAR
VERSION:2.0
PRODID:-//Muscle Shoals National Heritage Area - ECPv6.15.20//NONSGML v1.0//EN
CALSCALE:GREGORIAN
METHOD:PUBLISH
X-WR-CALNAME:Muscle Shoals National Heritage Area
X-ORIGINAL-URL:https://msnha.una.edu
X-WR-CALDESC:Events for Muscle Shoals National Heritage Area
REFRESH-INTERVAL;VALUE=DURATION:PT1H
X-Robots-Tag:noindex
X-PUBLISHED-TTL:PT1H
BEGIN:VTIMEZONE
TZID:America/Chicago
BEGIN:DAYLIGHT
TZOFFSETFROM:-0600
TZOFFSETTO:-0500
TZNAME:CDT
DTSTART:20220313T080000
END:DAYLIGHT
BEGIN:STANDARD
TZOFFSETFROM:-0500
TZOFFSETTO:-0600
TZNAME:CST
DTSTART:20221106T070000
END:STANDARD
BEGIN:DAYLIGHT
TZOFFSETFROM:-0600
TZOFFSETTO:-0500
TZNAME:CDT
DTSTART:20230312T080000
END:DAYLIGHT
BEGIN:STANDARD
TZOFFSETFROM:-0500
TZOFFSETTO:-0600
TZNAME:CST
DTSTART:20231105T070000
END:STANDARD
BEGIN:DAYLIGHT
TZOFFSETFROM:-0600
TZOFFSETTO:-0500
TZNAME:CDT
DTSTART:20240310T080000
END:DAYLIGHT
BEGIN:STANDARD
TZOFFSETFROM:-0500
TZOFFSETTO:-0600
TZNAME:CST
DTSTART:20241103T070000
END:STANDARD
END:VTIMEZONE
BEGIN:VEVENT
DTSTART;TZID=America/Chicago:20230318T100000
DTEND;TZID=America/Chicago:20230318T113000
DTSTAMP:20260422T143644
CREATED:20230306T170737Z
LAST-MODIFIED:20230306T170737Z
UID:6851-1679133600-1679139000@msnha.una.edu
SUMMARY:Young Learners Series: Deb Haaland
DESCRIPTION:The Florence Indian Mound Museum is hosting a series of children’s programs on the Shoals’ early history using short lessons & hands-on learning. The programs explore 12 Native American figures through their biographies\, contributions\, hopes & accomplishments. Students will be given a passport with the 12 figures & a stamp for each program attended. Students who collect six\, nine or 12 stamps will receive an award. Join us 10 a.m.\, Saturday\, March 18\, for a program about Secretary of the Interior Deb Haaland\, the first Native-American cabinet secretary. A member of the Pueblo of Laguna & a 35th generation New Mexican\, she is one of the first Native American women to serve in Congress\, where she focused on environmental policies\, family-friendly policies and indigenous women who are missing. This program is free and is sponsored by Florence Department of Arts and Museums & MSNHA. Call 256-760-6427 for details.
URL:https://msnha.una.edu/event/young-learners-series-deb-haaland/
LOCATION:Florence Indian Mound and Museum\, Florence\, AL
CATEGORIES:MSNHA Sponsored Events
ATTACH;FMTTYPE=image/png:https://msnha.una.edu/wp-content/uploads/2023/03/YLS-23-1-1.png
END:VEVENT
END:VCALENDAR