BEGIN:VCALENDAR
VERSION:2.0
PRODID:-//Muscle Shoals National Heritage Area - ECPv6.15.20//NONSGML v1.0//EN
CALSCALE:GREGORIAN
METHOD:PUBLISH
X-WR-CALNAME:Muscle Shoals National Heritage Area
X-ORIGINAL-URL:https://msnha.una.edu
X-WR-CALDESC:Events for Muscle Shoals National Heritage Area
REFRESH-INTERVAL;VALUE=DURATION:PT1H
X-Robots-Tag:noindex
X-PUBLISHED-TTL:PT1H
BEGIN:VTIMEZONE
TZID:America/Chicago
BEGIN:DAYLIGHT
TZOFFSETFROM:-0600
TZOFFSETTO:-0500
TZNAME:CDT
DTSTART:20250309T080000
END:DAYLIGHT
BEGIN:STANDARD
TZOFFSETFROM:-0500
TZOFFSETTO:-0600
TZNAME:CST
DTSTART:20251102T070000
END:STANDARD
BEGIN:DAYLIGHT
TZOFFSETFROM:-0600
TZOFFSETTO:-0500
TZNAME:CDT
DTSTART:20260308T080000
END:DAYLIGHT
BEGIN:STANDARD
TZOFFSETFROM:-0500
TZOFFSETTO:-0600
TZNAME:CST
DTSTART:20261101T070000
END:STANDARD
BEGIN:DAYLIGHT
TZOFFSETFROM:-0600
TZOFFSETTO:-0500
TZNAME:CDT
DTSTART:20270314T080000
END:DAYLIGHT
BEGIN:STANDARD
TZOFFSETFROM:-0500
TZOFFSETTO:-0600
TZNAME:CST
DTSTART:20271107T070000
END:STANDARD
END:VTIMEZONE
BEGIN:VEVENT
DTSTART;TZID=America/Chicago:20260217T080000
DTEND;TZID=America/Chicago:20260828T170000
DTSTAMP:20260421T094915
CREATED:20260217T211710Z
LAST-MODIFIED:20260219T154450Z
UID:11786-1771315200-1787936400@msnha.una.edu
SUMMARY:Enter our Photo Contest!
DESCRIPTION:We’ve opened our photo contest and are looking for photos that illustrate this year’s “Landmarks & Legacies” theme — and connect northwest Alabama to America’s 250th birthday. Go here to learn more about our guidelines and access our new online submission form. Deadline is Aug. 28. And winners plus other selected entries will be displayed in a Florence gallery!
URL:https://msnha.una.edu/event/enter-our-photo-contest/
LOCATION:AL
CATEGORIES:MSNHA Sponsored Events
ATTACH;FMTTYPE=image/png:https://msnha.una.edu/wp-content/uploads/2026/02/Photo-2.png
END:VEVENT
BEGIN:VEVENT
DTSTART;TZID=America/Chicago:20260227T100000
DTEND;TZID=America/Chicago:20260227T120000
DTSTAMP:20260421T094915
CREATED:20260222T173814Z
LAST-MODIFIED:20260222T173814Z
UID:11861-1772186400-1772193600@msnha.una.edu
SUMMARY:MSNHA Grants Workshop
DESCRIPTION:We’ve simplified the application process — learn how to navigate the new platform at our free grants workshop — lunch included!\nThis in-person workshop takes you through MSNHA’s new streamlined application process. Learn how to navigate the updates to ensure an easy & seamless experience. MSNHA Director Terah Klein will walk you through the steps\, then we’ll break for lunch and she’ll answer all your questions. Perfect for anyone thinking about applying for an MSNHA grant.
URL:https://msnha.una.edu/event/msnha-grants-workshop/
LOCATION:AL
CATEGORIES:MSNHA Sponsored Events
ATTACH;FMTTYPE=image/jpeg:https://msnha.una.edu/wp-content/uploads/2026/02/grants.jpg
END:VEVENT
END:VCALENDAR