BEGIN:VCALENDAR
VERSION:2.0
PRODID:-//Muscle Shoals National Heritage Area - ECPv6.15.20//NONSGML v1.0//EN
CALSCALE:GREGORIAN
METHOD:PUBLISH
X-WR-CALNAME:Muscle Shoals National Heritage Area
X-ORIGINAL-URL:https://msnha.una.edu
X-WR-CALDESC:Events for Muscle Shoals National Heritage Area
REFRESH-INTERVAL;VALUE=DURATION:PT1H
X-Robots-Tag:noindex
X-PUBLISHED-TTL:PT1H
BEGIN:VTIMEZONE
TZID:America/Chicago
BEGIN:DAYLIGHT
TZOFFSETFROM:-0600
TZOFFSETTO:-0500
TZNAME:CDT
DTSTART:20230312T080000
END:DAYLIGHT
BEGIN:STANDARD
TZOFFSETFROM:-0500
TZOFFSETTO:-0600
TZNAME:CST
DTSTART:20231105T070000
END:STANDARD
BEGIN:DAYLIGHT
TZOFFSETFROM:-0600
TZOFFSETTO:-0500
TZNAME:CDT
DTSTART:20240310T080000
END:DAYLIGHT
BEGIN:STANDARD
TZOFFSETFROM:-0500
TZOFFSETTO:-0600
TZNAME:CST
DTSTART:20241103T070000
END:STANDARD
BEGIN:DAYLIGHT
TZOFFSETFROM:-0600
TZOFFSETTO:-0500
TZNAME:CDT
DTSTART:20250309T080000
END:DAYLIGHT
BEGIN:STANDARD
TZOFFSETFROM:-0500
TZOFFSETTO:-0600
TZNAME:CST
DTSTART:20251102T070000
END:STANDARD
END:VTIMEZONE
BEGIN:VEVENT
DTSTART;TZID=America/Chicago:20240615T100000
DTEND;TZID=America/Chicago:20240615T110000
DTSTAMP:20260425T105928
CREATED:20240614T003034Z
LAST-MODIFIED:20240614T003034Z
UID:10070-1718445600-1718449200@msnha.una.edu
SUMMARY:Young Learners' Series: Weaving
DESCRIPTION:Learn about traditional weaving of the Hopi and the Pueblo People. The Young Learners will learn about this special art 10-11 a.m.\, Saturday\, June 15. A family event\, appropriate for ages 5-12…grownups are free to participate\, as well!!
URL:https://msnha.una.edu/event/young-learners-series-weaving/
LOCATION:Florence Indian Mound and Museum\, Florence\, AL
CATEGORIES:Community Events
ATTACH;FMTTYPE=image/png:https://msnha.una.edu/wp-content/uploads/2024/06/Screenshot-2024-06-13-192711.png
END:VEVENT
BEGIN:VEVENT
DTSTART;TZID=America/Chicago:20240622T170000
DTEND;TZID=America/Chicago:20240622T170000
DTSTAMP:20260425T105928
CREATED:20240216T191102Z
LAST-MODIFIED:20240614T001049Z
UID:9717-1719075600-1719075600@msnha.una.edu
SUMMARY:Artsy Fartsy 5K and 1-mile Fun Run
DESCRIPTION:The Muscle Shoals National Heritage area is full of music makers and other talented artists. To support the arts in the MSNHA\, we are excited to announce the Artsy Fartsy 5K and 1-mile Fun Run at Florence’s new River Heritage Trail! We promise you won’t want to miss running\, skipping\, hopping\, rolling or strolling (whatever your preference!) in this beautiful spot. Invite your friends and family to join you after the run for live music at the amphitheater featuring Coffee Black! \nAll proceeds from the Artsy Fartsy 5K & 1-mile Fun Run will help support MSNHA arts-focused projects. \nFor full Heritage Area Hustle Race Series details\, including volunteer and sponsorship opportunities\, go here.
URL:https://msnha.una.edu/event/artsy-fartsy-5k-and-1-mile-fun-run/
LOCATION:River Heritage Trail\, 15 Hightower Place\, Florence\, AL\, 35630\, United States
CATEGORIES:League of Outdoor Women,MSNHA Recreation
ATTACH;FMTTYPE=image/jpeg:https://msnha.una.edu/wp-content/uploads/2024/02/artsyfartsy.jpg
END:VEVENT
BEGIN:VEVENT
DTSTART;TZID=America/Chicago:20240629T140000
DTEND;TZID=America/Chicago:20240629T170000
DTSTAMP:20260425T105928
CREATED:20240627T201618Z
LAST-MODIFIED:20240627T201618Z
UID:10181-1719669600-1719680400@msnha.una.edu
SUMMARY:'Native Flora' launch
DESCRIPTION:Come out celebrate the launch of digital magazine “Native Flora” at All The Best coffee & record shop. Enjoy snack specials & giveaways including a limited run of printed copies. “Native Flora” is a zine series highlighting native plants found in northwest Alabama and their role in the ecosystem. The first issue includes forbs\, graminoids and vines you can find in spring & summer. It will be available as a free online resource thanks to the Muscle Shoals National Heritage Area.
URL:https://msnha.una.edu/event/native-flora-launch/
LOCATION:All the Best\, 128 E. Tennessee St.\, Florence\, AL\, 35630\, United States
CATEGORIES:Community Events,MSNHA Sponsored Events
ATTACH;FMTTYPE=image/png:https://msnha.una.edu/wp-content/uploads/2024/06/picnativeflora.png
END:VEVENT
END:VCALENDAR