BEGIN:VCALENDAR
VERSION:2.0
PRODID:-//Muscle Shoals National Heritage Area - ECPv6.15.20//NONSGML v1.0//EN
CALSCALE:GREGORIAN
METHOD:PUBLISH
X-WR-CALNAME:Muscle Shoals National Heritage Area
X-ORIGINAL-URL:https://msnha.una.edu
X-WR-CALDESC:Events for Muscle Shoals National Heritage Area
REFRESH-INTERVAL;VALUE=DURATION:PT1H
X-Robots-Tag:noindex
X-PUBLISHED-TTL:PT1H
BEGIN:VTIMEZONE
TZID:America/Chicago
BEGIN:DAYLIGHT
TZOFFSETFROM:-0600
TZOFFSETTO:-0500
TZNAME:CDT
DTSTART:20250309T080000
END:DAYLIGHT
BEGIN:STANDARD
TZOFFSETFROM:-0500
TZOFFSETTO:-0600
TZNAME:CST
DTSTART:20251102T070000
END:STANDARD
BEGIN:DAYLIGHT
TZOFFSETFROM:-0600
TZOFFSETTO:-0500
TZNAME:CDT
DTSTART:20260308T080000
END:DAYLIGHT
BEGIN:STANDARD
TZOFFSETFROM:-0500
TZOFFSETTO:-0600
TZNAME:CST
DTSTART:20261101T070000
END:STANDARD
BEGIN:DAYLIGHT
TZOFFSETFROM:-0600
TZOFFSETTO:-0500
TZNAME:CDT
DTSTART:20270314T080000
END:DAYLIGHT
BEGIN:STANDARD
TZOFFSETFROM:-0500
TZOFFSETTO:-0600
TZNAME:CST
DTSTART:20271107T070000
END:STANDARD
END:VTIMEZONE
BEGIN:VEVENT
DTSTART;TZID=America/Chicago:20260217T080000
DTEND;TZID=America/Chicago:20260828T170000
DTSTAMP:20260420T210724
CREATED:20260217T211710Z
LAST-MODIFIED:20260219T154450Z
UID:11786-1771315200-1787936400@msnha.una.edu
SUMMARY:Enter our Photo Contest!
DESCRIPTION:We’ve opened our photo contest and are looking for photos that illustrate this year’s “Landmarks & Legacies” theme — and connect northwest Alabama to America’s 250th birthday. Go here to learn more about our guidelines and access our new online submission form. Deadline is Aug. 28. And winners plus other selected entries will be displayed in a Florence gallery!
URL:https://msnha.una.edu/event/enter-our-photo-contest/
LOCATION:AL
CATEGORIES:MSNHA Sponsored Events
ATTACH;FMTTYPE=image/png:https://msnha.una.edu/wp-content/uploads/2026/02/Photo-2.png
END:VEVENT
BEGIN:VEVENT
DTSTART;TZID=America/Chicago:20260718T100000
DTEND;TZID=America/Chicago:20260718T130000
DTSTAMP:20260420T210724
CREATED:20260420T163046Z
LAST-MODIFIED:20260420T163921Z
UID:12100-1784368800-1784379600@msnha.una.edu
SUMMARY:Village School Volunteer Workday
DESCRIPTION:Join us for our next volunteer event at Village One School. We’ll provide supplies and direction — no experience necessary. Work will include anything from cleaning\, painting\, scraping\, to yard work\, to organizing materials and more. Email or get in touch via social media to sign up and/or alert us to specialized skills you might share. Wear clothes you don’t mind getting dirty in\, such as jeans and closed-toe shoes. Feel free to bring work gloves\, as well. If you’re not able to stay the whole morning\, please stop by anyway to say “hi” and see what we’re up to! Volunteer workdays are generally the third Saturday\, from March to October.
URL:https://msnha.una.edu/event/village-school-volunteer-workday-2/
LOCATION:Village One School\, Sheffield\, AL
CATEGORIES:Community Events
ATTACH;FMTTYPE=image/jpeg:https://msnha.una.edu/wp-content/uploads/2026/04/622892073_1238923585032135_5075414530503732874_n.jpg
END:VEVENT
BEGIN:VEVENT
DTSTART;TZID=America/Chicago:20260723T190000
DTEND;TZID=America/Chicago:20260723T210000
DTSTAMP:20260420T210724
CREATED:20260420T161047Z
LAST-MODIFIED:20260420T161108Z
UID:12091-1784833200-1784840400@msnha.una.edu
SUMMARY:Tennessee Valley Old Timers Fiddlers Convention Concert Series--Michael Reno Harrell & Josh Goforth
DESCRIPTION:Michael Reno Harrell & Josh Goforth are from the Blue Ridge Mountains of western North Carolina where acoustic music and storytelling are part of life. Having been fans of each other’s work for over two decades\, their performances are as natural as the harmonies of brothers. Josh is a multi-instrumentalist\, storyteller & songwriter who carries on the traditions rooted in Appalachian culture. Michael is an award-winning songwriter\, musician & storyteller whose roots reach back into mists of the southern mountains. Together they bring that experience to the listener with the humor and heart that their forebears are so well known for.
URL:https://msnha.una.edu/event/tennessee-valley-old-timers-fiddlers-convention-concert-series-michael-reno-harrell-josh-goforth/
LOCATION:McCandless Hall\, Athens State University\, 302 Bryan St.\, Athens\, AL\, 35611\, United States
CATEGORIES:Community Events
ATTACH;FMTTYPE=image/jpeg:https://msnha.una.edu/wp-content/uploads/2026/04/558621673_1303380738246950_4214786376592683904_n.jpg
END:VEVENT
END:VCALENDAR