BEGIN:VCALENDAR
VERSION:2.0
PRODID:-//Muscle Shoals National Heritage Area - ECPv6.15.20//NONSGML v1.0//EN
CALSCALE:GREGORIAN
METHOD:PUBLISH
X-WR-CALNAME:Muscle Shoals National Heritage Area
X-ORIGINAL-URL:https://msnha.una.edu
X-WR-CALDESC:Events for Muscle Shoals National Heritage Area
REFRESH-INTERVAL;VALUE=DURATION:PT1H
X-Robots-Tag:noindex
X-PUBLISHED-TTL:PT1H
BEGIN:VTIMEZONE
TZID:America/Chicago
BEGIN:DAYLIGHT
TZOFFSETFROM:-0600
TZOFFSETTO:-0500
TZNAME:CDT
DTSTART:20220313T080000
END:DAYLIGHT
BEGIN:STANDARD
TZOFFSETFROM:-0500
TZOFFSETTO:-0600
TZNAME:CST
DTSTART:20221106T070000
END:STANDARD
BEGIN:DAYLIGHT
TZOFFSETFROM:-0600
TZOFFSETTO:-0500
TZNAME:CDT
DTSTART:20230312T080000
END:DAYLIGHT
BEGIN:STANDARD
TZOFFSETFROM:-0500
TZOFFSETTO:-0600
TZNAME:CST
DTSTART:20231105T070000
END:STANDARD
BEGIN:DAYLIGHT
TZOFFSETFROM:-0600
TZOFFSETTO:-0500
TZNAME:CDT
DTSTART:20240310T080000
END:DAYLIGHT
BEGIN:STANDARD
TZOFFSETFROM:-0500
TZOFFSETTO:-0600
TZNAME:CST
DTSTART:20241103T070000
END:STANDARD
END:VTIMEZONE
BEGIN:VEVENT
DTSTART;VALUE=DATE:20231023
DTEND;VALUE=DATE:20231030
DTSTAMP:20260425T114734
CREATED:20230623T162251Z
LAST-MODIFIED:20230623T163525Z
UID:7883-1698019200-1698623999@msnha.una.edu
SUMMARY:Athens Storytelling Festival
DESCRIPTION:We plan to be in-person this year\, so join us as we move our tent a little to the east to the Athens State University campus. It will be a crisp fall weekend spent listening to stories of adventure and excitement … a place where memories & magic are captured & spun into tales that make you laugh & cry. Hear stories that tell of a time that used to be or a time yet to come. Glimpse into the past and live the imaginary. Learn more about your parents\, your children and yourself. Discover all this and more at the annual Athens Storytelling Festival. Check here for details.
URL:https://msnha.una.edu/event/athens-storytelling-festival/
LOCATION:Athens State University\, 300 N Beaty St\, Athens\, AL\, Athens\, AL\, 35611\, United States
CATEGORIES:Community Events
ATTACH;FMTTYPE=image/jpeg:https://msnha.una.edu/wp-content/uploads/2023/06/Story_0011.jpg
END:VEVENT
END:VCALENDAR