BEGIN:VCALENDAR
VERSION:2.0
PRODID:-//Muscle Shoals National Heritage Area - ECPv6.15.20//NONSGML v1.0//EN
CALSCALE:GREGORIAN
METHOD:PUBLISH
X-WR-CALNAME:Muscle Shoals National Heritage Area
X-ORIGINAL-URL:https://msnha.una.edu
X-WR-CALDESC:Events for Muscle Shoals National Heritage Area
REFRESH-INTERVAL;VALUE=DURATION:PT1H
X-Robots-Tag:noindex
X-PUBLISHED-TTL:PT1H
BEGIN:VTIMEZONE
TZID:America/Chicago
BEGIN:DAYLIGHT
TZOFFSETFROM:-0600
TZOFFSETTO:-0500
TZNAME:CDT
DTSTART:20230312T080000
END:DAYLIGHT
BEGIN:STANDARD
TZOFFSETFROM:-0500
TZOFFSETTO:-0600
TZNAME:CST
DTSTART:20231105T070000
END:STANDARD
BEGIN:DAYLIGHT
TZOFFSETFROM:-0600
TZOFFSETTO:-0500
TZNAME:CDT
DTSTART:20240310T080000
END:DAYLIGHT
BEGIN:STANDARD
TZOFFSETFROM:-0500
TZOFFSETTO:-0600
TZNAME:CST
DTSTART:20241103T070000
END:STANDARD
BEGIN:DAYLIGHT
TZOFFSETFROM:-0600
TZOFFSETTO:-0500
TZNAME:CDT
DTSTART:20250309T080000
END:DAYLIGHT
BEGIN:STANDARD
TZOFFSETFROM:-0500
TZOFFSETTO:-0600
TZNAME:CST
DTSTART:20251102T070000
END:STANDARD
END:VTIMEZONE
BEGIN:VEVENT
DTSTART;TZID=America/Chicago:20240127T100000
DTEND;TZID=America/Chicago:20240127T113000
DTSTAMP:20260421T190042
CREATED:20240108T184303Z
LAST-MODIFIED:20240121T185925Z
UID:9203-1706349600-1706355000@msnha.una.edu
SUMMARY:Young Learners' Series: Native American Jewelry
DESCRIPTION:Join us for a short informational presentation on the art of Native American jewelry making past and present. After the presentation\, students will have the opportunity to create their own beaded jewelry to take home or share as part of our youth education exhibit. The program is free. \nJewelry is an important form of art and culture for many Native American tribes. In the past & today\, jewelry making is passed down as a cultural practice and is used for adornment and individual & familial identification. Historically\, jewelry was made of natural materials such as shells & nuts\, which were carved into beads. As trading with Europeans increased\, beading became more popular. \nNative Americans designed their beaded jewelry to reflect their stories. Today art jewelry is made from metals\, seeds\, nuts\, stone & fish bone as well as synthetic beads. It is shared from teacher to student within families & groups to preserve artistic & cultural practice or worn in cultural identification & celebration.
URL:https://msnha.una.edu/event/young-learners-series-native-american-jewelry/
LOCATION:Florence Indian Mound and Museum\, Florence\, AL
CATEGORIES:Community Events
ATTACH;FMTTYPE=image/jpeg:https://msnha.una.edu/wp-content/uploads/2024/01/NEW418313899_1075286987164767_8562549070428485962_n.jpg
END:VEVENT
END:VCALENDAR