BEGIN:VCALENDAR
VERSION:2.0
PRODID:-//Muscle Shoals National Heritage Area - ECPv6.15.20//NONSGML v1.0//EN
CALSCALE:GREGORIAN
METHOD:PUBLISH
X-WR-CALNAME:Muscle Shoals National Heritage Area
X-ORIGINAL-URL:https://msnha.una.edu
X-WR-CALDESC:Events for Muscle Shoals National Heritage Area
REFRESH-INTERVAL;VALUE=DURATION:PT1H
X-Robots-Tag:noindex
X-PUBLISHED-TTL:PT1H
BEGIN:VTIMEZONE
TZID:America/Chicago
BEGIN:DAYLIGHT
TZOFFSETFROM:-0600
TZOFFSETTO:-0500
TZNAME:CDT
DTSTART:20220313T080000
END:DAYLIGHT
BEGIN:STANDARD
TZOFFSETFROM:-0500
TZOFFSETTO:-0600
TZNAME:CST
DTSTART:20221106T070000
END:STANDARD
BEGIN:DAYLIGHT
TZOFFSETFROM:-0600
TZOFFSETTO:-0500
TZNAME:CDT
DTSTART:20230312T080000
END:DAYLIGHT
BEGIN:STANDARD
TZOFFSETFROM:-0500
TZOFFSETTO:-0600
TZNAME:CST
DTSTART:20231105T070000
END:STANDARD
BEGIN:DAYLIGHT
TZOFFSETFROM:-0600
TZOFFSETTO:-0500
TZNAME:CDT
DTSTART:20240310T080000
END:DAYLIGHT
BEGIN:STANDARD
TZOFFSETFROM:-0500
TZOFFSETTO:-0600
TZNAME:CST
DTSTART:20241103T070000
END:STANDARD
END:VTIMEZONE
BEGIN:VEVENT
DTSTART;VALUE=DATE:20230721
DTEND;VALUE=DATE:20230731
DTSTAMP:20260425T090819
CREATED:20230623T172242Z
LAST-MODIFIED:20230623T172629Z
UID:7894-1689897600-1690761599@msnha.una.edu
SUMMARY:W. C. Handy Music Festival
DESCRIPTION:A 10-day long series of primarily music events occurring in and around the Shoals which honors William Christopher “W.C.” Handy and the musical legacy of the “Hit Recording Capital of the World.” The talented musicians of the Muscle Shoals are among the very best. Come and experience the sound for yourself! Go here for details.
URL:https://msnha.una.edu/event/w-c-handy-music-festival/
LOCATION:The Shoals\, AL\, United States
CATEGORIES:Community Events
ATTACH;FMTTYPE=image/png:https://msnha.una.edu/wp-content/uploads/2023/06/Screenshot-2023-06-23-122104.png
END:VEVENT
END:VCALENDAR