BEGIN:VCALENDAR
VERSION:2.0
PRODID:-//Muscle Shoals National Heritage Area - ECPv6.15.20//NONSGML v1.0//EN
CALSCALE:GREGORIAN
METHOD:PUBLISH
X-ORIGINAL-URL:https://msnha.una.edu
X-WR-CALDESC:Events for Muscle Shoals National Heritage Area
REFRESH-INTERVAL;VALUE=DURATION:PT1H
X-Robots-Tag:noindex
X-PUBLISHED-TTL:PT1H
BEGIN:VTIMEZONE
TZID:America/Chicago
BEGIN:DAYLIGHT
TZOFFSETFROM:-0600
TZOFFSETTO:-0500
TZNAME:CDT
DTSTART:20220313T080000
END:DAYLIGHT
BEGIN:STANDARD
TZOFFSETFROM:-0500
TZOFFSETTO:-0600
TZNAME:CST
DTSTART:20221106T070000
END:STANDARD
BEGIN:DAYLIGHT
TZOFFSETFROM:-0600
TZOFFSETTO:-0500
TZNAME:CDT
DTSTART:20230312T080000
END:DAYLIGHT
BEGIN:STANDARD
TZOFFSETFROM:-0500
TZOFFSETTO:-0600
TZNAME:CST
DTSTART:20231105T070000
END:STANDARD
BEGIN:DAYLIGHT
TZOFFSETFROM:-0600
TZOFFSETTO:-0500
TZNAME:CDT
DTSTART:20240310T080000
END:DAYLIGHT
BEGIN:STANDARD
TZOFFSETFROM:-0500
TZOFFSETTO:-0600
TZNAME:CST
DTSTART:20241103T070000
END:STANDARD
END:VTIMEZONE
BEGIN:VEVENT
DTSTART;TZID=America/Chicago:20230513T090000
DTEND;TZID=America/Chicago:20230513T130000
DTSTAMP:20260425T195440
CREATED:20230430T235423Z
LAST-MODIFIED:20230430T235423Z
UID:6985-1683968400-1683982800@msnha.una.edu
SUMMARY:The Shoals' RiverTowns Community Paddle on Second Creek
DESCRIPTION:The Muscle Shoals National Heritage Area is excited to begin its 2023 paddling season with a community paddle at Second Creek in Rogersville!\n\n\n\n\n\n\n\n\n\n\n\n\n\n\n\n\n\n\n\n\n\n\n\n\n\n\n\n\nWe will learn about the Tennessee RiverLine\, the natural history of the Tennessee River & nearby Joe Wheeler State Park while exploring Second Creek’s waters\, watching for wildlife and enjoying an easy & beginner-friendly paddle experience lasting around two hours and 4 miles. If you have never locked through a dam before\, this will be an exciting opportunity to do so in a kayak with expert guidance (a safe & simple process!) We’ll begin at Second Creek Boat Ramp\, Rogersville\, and finish at Wilson Lake Public Boat Ramp in Town Creek\, barring barge traffic.\nKayaks\, PFDs\, paddles & other equipment provided. Participants must know how to swim. Reserve a singe kayak when you register (comes with required equipment\, including PFD).\nIf you register & can’t attend\, cancel your reservation. Not doing so takes a spot away from someone else.\nCheck email ahead of the event. You’ll receive a confirmation email from Eventbrite & a pre-event reminder with additional details. Any changes to the paddle due to weather will also be communicated via email. Go here for tickets.
URL:https://msnha.una.edu/event/the-shoals-rivertowns-community-paddle-on-second-creek/
LOCATION:Second Creek Boat Launch\, Rogersville
CATEGORIES:MSNHA Recreation,Tennessee RiverLine
ATTACH;FMTTYPE=image/png:https://msnha.una.edu/wp-content/uploads/2023/04/Screenshot-2023-04-30-184735.png
END:VEVENT
END:VCALENDAR