BEGIN:VCALENDAR
VERSION:2.0
PRODID:-//Muscle Shoals National Heritage Area - ECPv6.15.20//NONSGML v1.0//EN
CALSCALE:GREGORIAN
METHOD:PUBLISH
X-WR-CALNAME:Muscle Shoals National Heritage Area
X-ORIGINAL-URL:https://msnha.una.edu
X-WR-CALDESC:Events for Muscle Shoals National Heritage Area
REFRESH-INTERVAL;VALUE=DURATION:PT1H
X-Robots-Tag:noindex
X-PUBLISHED-TTL:PT1H
BEGIN:VTIMEZONE
TZID:America/Chicago
BEGIN:DAYLIGHT
TZOFFSETFROM:-0600
TZOFFSETTO:-0500
TZNAME:CDT
DTSTART:20220313T080000
END:DAYLIGHT
BEGIN:STANDARD
TZOFFSETFROM:-0500
TZOFFSETTO:-0600
TZNAME:CST
DTSTART:20221106T070000
END:STANDARD
BEGIN:DAYLIGHT
TZOFFSETFROM:-0600
TZOFFSETTO:-0500
TZNAME:CDT
DTSTART:20230312T080000
END:DAYLIGHT
BEGIN:STANDARD
TZOFFSETFROM:-0500
TZOFFSETTO:-0600
TZNAME:CST
DTSTART:20231105T070000
END:STANDARD
BEGIN:DAYLIGHT
TZOFFSETFROM:-0600
TZOFFSETTO:-0500
TZNAME:CDT
DTSTART:20240310T080000
END:DAYLIGHT
BEGIN:STANDARD
TZOFFSETFROM:-0500
TZOFFSETTO:-0600
TZNAME:CST
DTSTART:20241103T070000
END:STANDARD
END:VTIMEZONE
BEGIN:VEVENT
DTSTART;TZID=America/Chicago:20230916T080000
DTEND;TZID=America/Chicago:20230916T110000
DTSTAMP:20260424T160836
CREATED:20230911T162425Z
LAST-MODIFIED:20230911T162425Z
UID:8975-1694851200-1694862000@msnha.una.edu
SUMMARY:Tennessee River Litter Tournament
DESCRIPTION:Join Keep The Shoals Beautiful for the 8th Annual Tennessee River Litter Tournament! Fish for litter in the water\, on the shorelines at Riverfront or McFarland Park or anywhere that matters to you in the Shoals.\n\n$500 Grand prize to the group with the most volunteers\n$100 MVP Award for most litter collected (one winner at each site)\n$100 Constellium recyclers award (one winner at each site)\n\nEnter 13-gallon trash bags of litter to compete for cash prizes solo or with your organization. Get ready to put on your free T-shirt & keep the Shoals beautiful.\nLunch provided for all volunteers after the event. Starting locations include McFarland Park (200 James M Spain Drive) in Florence and Riverfront Park (1316 Alabama Ave.) in Sheffield. We encourage you to pick up along the river or anywhere in the Shoals that you feel could use some love!\nGo here for details & registration.\nKeep the Tennessee River Beautiful will join us by bringing their boat with a 15-volunteer limit. To join this cleanup on the KTNRB boat\, sign up here.\nQuestions? Email  TNRiverLitter2023@keeptheshoalsbeautiful.org
URL:https://msnha.una.edu/event/tennessee-river-litter-tournament-2/
LOCATION:McFarland Park\, Florence\, AL
CATEGORIES:Community Events
ATTACH;FMTTYPE=image/png:https://msnha.una.edu/wp-content/uploads/2023/09/ktsb.png
END:VEVENT
BEGIN:VEVENT
DTSTART;TZID=America/Chicago:20230916T100000
DTEND;TZID=America/Chicago:20230916T233000
DTSTAMP:20260424T160836
CREATED:20230906T163446Z
LAST-MODIFIED:20230906T163446Z
UID:8904-1694858400-1694907000@msnha.una.edu
SUMMARY:Young Learners' Series: Creek Warrior William Weatherford
DESCRIPTION:In this month’s Young Learners Series\, the program & activity will be about Creek Warrior William Weatherford. Also known as Hoponika Fulsahi (Truth Maker)\, Weatherford was a member of the Wind Clan from the town of Coosada\, an Alabama town in the Creek Confederacy. Born into a prominent Creek lineage on his mother’s side\, he was raised in a bicultural family of French & Scottish ancestry. He spoke both his native language & English. He is most well known as a chief of the Upper Creek & the Red Stick war leader during the Creek War of 1813-1814. He is credited for leading an attack on Fort Mims that was the first significant action of the Creek War and transformed the conflict from an Indian civil war into an American-Creek War. He rebuilt his wealth as a slave-holding planter and horse breeder & racer\, in Monroe\, after the war.\nThe YLS helps students explore early Shoals history through short lessons & hands-on learning exercises. The programs focus on 12 Native American figures through their biographies\, contributions\, hopes & accomplishments.\nThis program is free and sponsored by the City of Florence Department of Arts and Museums & MSNHA. Call 256-760-6427 for details..
URL:https://msnha.una.edu/event/young-learners-series-creek-warrior-william-weatherford/
LOCATION:Florence Indian Mound and Museum\, Florence\, AL
CATEGORIES:Community Events
ATTACH;FMTTYPE=image/png:https://msnha.una.edu/wp-content/uploads/2023/09/YLS-23-1-2-2.png
END:VEVENT
END:VCALENDAR