BEGIN:VCALENDAR
VERSION:2.0
PRODID:-//Muscle Shoals National Heritage Area - ECPv6.15.20//NONSGML v1.0//EN
CALSCALE:GREGORIAN
METHOD:PUBLISH
X-ORIGINAL-URL:https://msnha.una.edu
X-WR-CALDESC:Events for Muscle Shoals National Heritage Area
REFRESH-INTERVAL;VALUE=DURATION:PT1H
X-Robots-Tag:noindex
X-PUBLISHED-TTL:PT1H
BEGIN:VTIMEZONE
TZID:America/Chicago
BEGIN:DAYLIGHT
TZOFFSETFROM:-0600
TZOFFSETTO:-0500
TZNAME:CDT
DTSTART:20230312T080000
END:DAYLIGHT
BEGIN:STANDARD
TZOFFSETFROM:-0500
TZOFFSETTO:-0600
TZNAME:CST
DTSTART:20231105T070000
END:STANDARD
BEGIN:DAYLIGHT
TZOFFSETFROM:-0600
TZOFFSETTO:-0500
TZNAME:CDT
DTSTART:20240310T080000
END:DAYLIGHT
BEGIN:STANDARD
TZOFFSETFROM:-0500
TZOFFSETTO:-0600
TZNAME:CST
DTSTART:20241103T070000
END:STANDARD
BEGIN:DAYLIGHT
TZOFFSETFROM:-0600
TZOFFSETTO:-0500
TZNAME:CDT
DTSTART:20250309T080000
END:DAYLIGHT
BEGIN:STANDARD
TZOFFSETFROM:-0500
TZOFFSETTO:-0600
TZNAME:CST
DTSTART:20251102T070000
END:STANDARD
END:VTIMEZONE
BEGIN:VEVENT
DTSTART;TZID=America/Chicago:20240615T100000
DTEND;TZID=America/Chicago:20240615T110000
DTSTAMP:20260421T121020
CREATED:20240614T003034Z
LAST-MODIFIED:20240614T003034Z
UID:10070-1718445600-1718449200@msnha.una.edu
SUMMARY:Young Learners' Series: Weaving
DESCRIPTION:Learn about traditional weaving of the Hopi and the Pueblo People. The Young Learners will learn about this special art 10-11 a.m.\, Saturday\, June 15. A family event\, appropriate for ages 5-12…grownups are free to participate\, as well!!
URL:https://msnha.una.edu/event/young-learners-series-weaving/
LOCATION:Florence Indian Mound and Museum\, Florence\, AL
CATEGORIES:Community Events
ATTACH;FMTTYPE=image/png:https://msnha.una.edu/wp-content/uploads/2024/06/Screenshot-2024-06-13-192711.png
END:VEVENT
END:VCALENDAR