BEGIN:VCALENDAR
VERSION:2.0
PRODID:-//Muscle Shoals National Heritage Area - ECPv6.15.20//NONSGML v1.0//EN
CALSCALE:GREGORIAN
METHOD:PUBLISH
X-ORIGINAL-URL:https://msnha.una.edu
X-WR-CALDESC:Events for Muscle Shoals National Heritage Area
REFRESH-INTERVAL;VALUE=DURATION:PT1H
X-Robots-Tag:noindex
X-PUBLISHED-TTL:PT1H
BEGIN:VTIMEZONE
TZID:America/Chicago
BEGIN:DAYLIGHT
TZOFFSETFROM:-0600
TZOFFSETTO:-0500
TZNAME:CDT
DTSTART:20220313T080000
END:DAYLIGHT
BEGIN:STANDARD
TZOFFSETFROM:-0500
TZOFFSETTO:-0600
TZNAME:CST
DTSTART:20221106T070000
END:STANDARD
BEGIN:DAYLIGHT
TZOFFSETFROM:-0600
TZOFFSETTO:-0500
TZNAME:CDT
DTSTART:20230312T080000
END:DAYLIGHT
BEGIN:STANDARD
TZOFFSETFROM:-0500
TZOFFSETTO:-0600
TZNAME:CST
DTSTART:20231105T070000
END:STANDARD
BEGIN:DAYLIGHT
TZOFFSETFROM:-0600
TZOFFSETTO:-0500
TZNAME:CDT
DTSTART:20240310T080000
END:DAYLIGHT
BEGIN:STANDARD
TZOFFSETFROM:-0500
TZOFFSETTO:-0600
TZNAME:CST
DTSTART:20241103T070000
END:STANDARD
END:VTIMEZONE
BEGIN:VEVENT
DTSTART;TZID=America/Chicago:20230406T180000
DTEND;TZID=America/Chicago:20230406T180000
DTSTAMP:20260421T101256
CREATED:20230318T184619Z
LAST-MODIFIED:20230318T184802Z
UID:6943-1680804000-1680804000@msnha.una.edu
SUMMARY:"Cheers to Plants! A Wildlife Gardening Event
DESCRIPTION:Learn about essential native plants and how they support wildlife at Esther’s Eatery & natural wine shop. Everyone goes home with a plant! Wildlife gardening enthusiast Abbie Hyche will highlight five native plants\, their benefits to wildlife and functions in the landscape. Everyone will be given a native plant to add to their garden. Additional plants will be available for purchase.\n\n\n\n\n\n\n\n\n\n\n\n\n\n\n\n\n\n\n\n\n\n\n\nThe $40 ticket includes the info-session\, a plant\, printed materials and light refreshments. Wine will be available for purchase by the glass and by the bottle. Text or call Hyche at (205) 541-7484 for more info. Register here. This event is sponsored in part by the Muscle Shoals National Heritage Area and is hosted by Esther’s Eatery.
URL:https://msnha.una.edu/event/cheers-to-plants-a-wildlife-gardening-event/
LOCATION:Esther’s Eatery\, Florence\, 1416 Huntsville Road\, Florence\, AL\, 35630\, United States
CATEGORIES:MSNHA Sponsored Events
ATTACH;FMTTYPE=image/png:https://msnha.una.edu/wp-content/uploads/2023/03/cheers-to-plants-square.png
END:VEVENT
END:VCALENDAR